Package: scuttle Version: 1.21.0 Command: /home/biocbuild/bbs-3.23-bioc/R/bin/R CMD INSTALL scuttle StartedAt: 2025-11-07 15:19:05 -0500 (Fri, 07 Nov 2025) EndedAt: 2025-11-07 15:20:14 -0500 (Fri, 07 Nov 2025) EllapsedTime: 68.9 seconds RetCode: 0 Status: OK