Package: scruff Version: 1.27.0 Command: /home/biocbuild/bbs-3.22-bioc/R/bin/R CMD INSTALL scruff StartedAt: 2025-10-02 15:53:09 -0400 (Thu, 02 Oct 2025) EndedAt: 2025-10-02 15:54:15 -0400 (Thu, 02 Oct 2025) EllapsedTime: 66.2 seconds RetCode: 0 Status: OK