Package: scruff Version: 1.27.0 Command: /home/biocbuild/bbs-3.22-bioc/R/bin/R CMD build --keep-empty-dirs --no-resave-data --md5 scruff StartedAt: 2025-10-01 20:19:51 -0400 (Wed, 01 Oct 2025) EndedAt: 2025-10-01 20:21:41 -0400 (Wed, 01 Oct 2025) EllapsedTime: 110.1 seconds RetCode: 1 Status: ERROR PackageFile: None PackageFileSize: NA