Package: scran Version: 1.39.0 Command: /home/biocbuild/bbs-3.23-bioc/R/bin/R CMD INSTALL scran StartedAt: 2025-11-21 15:52:59 -0500 (Fri, 21 Nov 2025) EndedAt: 2025-11-21 15:54:14 -0500 (Fri, 21 Nov 2025) EllapsedTime: 74.8 seconds RetCode: 0 Status: OK