Package: scran Version: 1.39.0 Command: /home/biocbuild/bbs-3.23-bioc/R/bin/R CMD build --keep-empty-dirs --no-resave-data scran StartedAt: 2025-11-21 19:56:21 -0500 (Fri, 21 Nov 2025) EndedAt: 2025-11-21 19:59:39 -0500 (Fri, 21 Nov 2025) EllapsedTime: 198.1 seconds RetCode: 0 Status: OK PackageFile: scran_1.39.0.tar.gz PackageFileSize: 1.743 MiB