Package: scran Version: 1.39.0 Command: /Library/Frameworks/R.framework/Resources/bin/R CMD INSTALL scran StartedAt: 2025-11-21 15:51:31 -0500 (Fri, 21 Nov 2025) EndedAt: 2025-11-21 15:53:00 -0500 (Fri, 21 Nov 2025) EllapsedTime: 88.8 seconds RetCode: 0 Status: OK