Package: scran Version: 1.39.0 Command: /Library/Frameworks/R.framework/Resources/bin/R CMD build --keep-empty-dirs --no-resave-data scran StartedAt: 2025-11-21 18:37:05 -0500 (Fri, 21 Nov 2025) EndedAt: 2025-11-21 18:40:47 -0500 (Fri, 21 Nov 2025) EllapsedTime: 222.1 seconds RetCode: 0 Status: OK PackageFile: scran_1.39.0.tar.gz PackageFileSize: 1.83 MiB