Package: scran Version: 1.39.0 Command: /Library/Frameworks/R.framework/Resources/bin/R CMD INSTALL scran StartedAt: 2025-11-14 15:28:43 -0500 (Fri, 14 Nov 2025) EndedAt: 2025-11-14 15:29:06 -0500 (Fri, 14 Nov 2025) EllapsedTime: 23.8 seconds RetCode: 0 Status: OK