Package: scran Version: 1.39.0 Command: /Library/Frameworks/R.framework/Resources/bin/R CMD build --keep-empty-dirs --no-resave-data scran StartedAt: 2025-11-14 17:36:01 -0500 (Fri, 14 Nov 2025) EndedAt: 2025-11-14 17:37:19 -0500 (Fri, 14 Nov 2025) EllapsedTime: 77.9 seconds RetCode: 0 Status: OK PackageFile: scran_1.39.0.tar.gz PackageFileSize: 1.836 MiB