Package: scran Version: 1.39.0 Command: rm -rf scran.buildbin-libdir && mkdir scran.buildbin-libdir && /Users/biocbuild/BBS/utils/build-universal.sh scran_1.39.0.tar.gz /Library/Frameworks/R.framework/Resources/bin/R scran.buildbin-libdir StartedAt: 2025-11-14 23:51:10 -0500 (Fri, 14 Nov 2025) EndedAt: 2025-11-14 23:51:40 -0500 (Fri, 14 Nov 2025) EllapsedTime: 29.5 seconds RetCode: 0 Status: OK PackageFile: scran_1.39.0.tgz PackageFileSize: 2.305 MiB