Package: scp Version: 1.21.0 Command: /Library/Frameworks/R.framework/Resources/bin/R CMD INSTALL scp StartedAt: 2025-11-23 15:19:49 -0500 (Sun, 23 Nov 2025) EndedAt: 2025-11-23 15:20:01 -0500 (Sun, 23 Nov 2025) EllapsedTime: 12.3 seconds RetCode: 0 Status: OK