Package: scp Version: 1.21.0 Command: /Library/Frameworks/R.framework/Resources/bin/R CMD build --keep-empty-dirs --no-resave-data scp StartedAt: 2025-11-23 17:37:35 -0500 (Sun, 23 Nov 2025) EndedAt: 2025-11-23 17:39:11 -0500 (Sun, 23 Nov 2025) EllapsedTime: 96.0 seconds RetCode: 0 Status: OK PackageFile: scp_1.21.0.tar.gz PackageFileSize: 8.851 MiB