Package: scoup Version: 1.3.0 Command: /home/biocbuild/bbs-3.22-bioc/R/bin/R CMD build --keep-empty-dirs --no-resave-data --md5 scoup StartedAt: 2025-10-21 19:55:24 -0400 (Tue, 21 Oct 2025) EndedAt: 2025-10-21 19:55:46 -0400 (Tue, 21 Oct 2025) EllapsedTime: 22.0 seconds RetCode: 0 Status: OK PackageFile: scoup_1.3.0.tar.gz PackageFileSize: 336.9 KiB