Package: scmeth Version: 1.31.0 Command: /home/biocbuild/bbs-3.23-bioc/R/bin/R CMD INSTALL scmeth StartedAt: 2025-11-24 15:42:23 -0500 (Mon, 24 Nov 2025) EndedAt: 2025-11-24 15:43:09 -0500 (Mon, 24 Nov 2025) EllapsedTime: 45.4 seconds RetCode: 0 Status: OK