Package: scmeth Version: 1.31.0 Command: /Library/Frameworks/R.framework/Resources/bin/R CMD INSTALL scmeth StartedAt: 2025-11-20 15:42:31 -0500 (Thu, 20 Nov 2025) EndedAt: 2025-11-20 15:43:34 -0500 (Thu, 20 Nov 2025) EllapsedTime: 62.9 seconds RetCode: 0 Status: OK