Package: scmeth Version: 1.31.0 Command: /Library/Frameworks/R.framework/Resources/bin/R CMD build --keep-empty-dirs --no-resave-data scmeth StartedAt: 2025-11-19 18:37:28 -0500 (Wed, 19 Nov 2025) EndedAt: 2025-11-19 18:39:31 -0500 (Wed, 19 Nov 2025) EllapsedTime: 122.4 seconds RetCode: 0 Status: OK PackageFile: scmeth_1.31.0.tar.gz PackageFileSize: 776.7 KiB