Package: scmeth Version: 1.31.0 Command: /Library/Frameworks/R.framework/Resources/bin/R CMD build --keep-empty-dirs --no-resave-data scmeth StartedAt: 2025-11-13 17:38:03 -0500 (Thu, 13 Nov 2025) EndedAt: 2025-11-13 17:38:45 -0500 (Thu, 13 Nov 2025) EllapsedTime: 41.5 seconds RetCode: 0 Status: OK PackageFile: scmeth_1.31.0.tar.gz PackageFileSize: 775.7 KiB