Package: scmap Version: 1.31.0 Command: /home/biocbuild/bbs-3.22-bioc/R/bin/R CMD INSTALL scmap StartedAt: 2025-10-06 15:33:45 -0400 (Mon, 06 Oct 2025) EndedAt: 2025-10-06 15:34:24 -0400 (Mon, 06 Oct 2025) EllapsedTime: 39.5 seconds RetCode: 0 Status: OK