Package: scmap Version: 1.31.0 Command: /home/biocbuild/bbs-3.22-bioc/R/bin/R CMD build --keep-empty-dirs --no-resave-data --md5 scmap StartedAt: 2025-10-06 19:53:08 -0400 (Mon, 06 Oct 2025) EndedAt: 2025-10-06 19:54:04 -0400 (Mon, 06 Oct 2025) EllapsedTime: 56.1 seconds RetCode: 0 Status: OK PackageFile: scmap_1.31.0.tar.gz PackageFileSize: 2.235 MiB