Package: scifer Version: 1.11.5 Command: /Library/Frameworks/R.framework/Resources/bin/R CMD INSTALL scifer StartedAt: 2025-10-20 15:26:52 -0400 (Mon, 20 Oct 2025) EndedAt: 2025-10-20 15:27:00 -0400 (Mon, 20 Oct 2025) EllapsedTime: 7.3 seconds RetCode: 0 Status: OK