Package: scifer Version: 1.11.5 Command: /Library/Frameworks/R.framework/Resources/bin/R CMD build --keep-empty-dirs --no-resave-data scifer StartedAt: 2025-10-20 17:37:20 -0400 (Mon, 20 Oct 2025) EndedAt: 2025-10-20 17:37:53 -0400 (Mon, 20 Oct 2025) EllapsedTime: 33.4 seconds RetCode: 0 Status: OK PackageFile: scifer_1.11.5.tar.gz PackageFileSize: 1.524 MiB