Package: scifer Version: 1.11.5 Command: rm -rf scifer.buildbin-libdir && mkdir scifer.buildbin-libdir && /Users/biocbuild/BBS/utils/build-universal.sh scifer_1.11.5.tar.gz /Library/Frameworks/R.framework/Resources/bin/R scifer.buildbin-libdir StartedAt: 2025-10-21 23:16:47 -0400 (Tue, 21 Oct 2025) EndedAt: 2025-10-21 23:16:55 -0400 (Tue, 21 Oct 2025) EllapsedTime: 8.1 seconds RetCode: 0 Status: OK PackageFile: scifer_1.11.5.tgz PackageFileSize: 1.561 MiB