Package: scatterHatch Version: 1.15.0 Command: /home/biocbuild/bbs-3.22-bioc/R/bin/R CMD INSTALL scatterHatch StartedAt: 2025-10-03 15:06:52 -0400 (Fri, 03 Oct 2025) EndedAt: 2025-10-03 15:07:01 -0400 (Fri, 03 Oct 2025) EllapsedTime: 8.7 seconds RetCode: 0 Status: OK