Package: scanMiRApp Version: 1.17.0 Command: /Library/Frameworks/R.framework/Resources/bin/R CMD INSTALL scanMiRApp StartedAt: 2025-11-21 15:27:41 -0500 (Fri, 21 Nov 2025) EndedAt: 2025-11-21 15:28:00 -0500 (Fri, 21 Nov 2025) EllapsedTime: 19.3 seconds RetCode: 0 Status: OK