Package: scanMiRApp Version: 1.17.0 Command: /Library/Frameworks/R.framework/Resources/bin/R CMD build --keep-empty-dirs --no-resave-data scanMiRApp StartedAt: 2025-11-23 17:33:57 -0500 (Sun, 23 Nov 2025) EndedAt: 2025-11-23 17:34:33 -0500 (Sun, 23 Nov 2025) EllapsedTime: 35.4 seconds RetCode: 0 Status: OK PackageFile: scanMiRApp_1.17.0.tar.gz PackageFileSize: 904.6 KiB