Package: scanMiRApp Version: 1.17.0 Command: rm -rf scanMiRApp.buildbin-libdir && mkdir scanMiRApp.buildbin-libdir && /Users/biocbuild/BBS/utils/build-universal.sh scanMiRApp_1.17.0.tar.gz /Library/Frameworks/R.framework/Resources/bin/R scanMiRApp.buildbin-libdir StartedAt: 2025-11-21 23:49:39 -0500 (Fri, 21 Nov 2025) EndedAt: 2025-11-21 23:50:02 -0500 (Fri, 21 Nov 2025) EllapsedTime: 23.4 seconds RetCode: 0 Status: OK PackageFile: scanMiRApp_1.17.0.tgz PackageFileSize: 1.337 MiB