Package: scTreeViz Version: 1.17.0 Command: /home/biocbuild/bbs-3.23-bioc/R/bin/R CMD build --keep-empty-dirs --no-resave-data scTreeViz StartedAt: 2025-11-23 19:58:23 -0500 (Sun, 23 Nov 2025) EndedAt: 2025-11-23 20:00:57 -0500 (Sun, 23 Nov 2025) EllapsedTime: 153.1 seconds RetCode: 0 Status: OK PackageFile: scTreeViz_1.17.0.tar.gz PackageFileSize: 2.298 MiB