Package: scTreeViz Version: 1.17.0 Command: rm -rf scTreeViz.buildbin-libdir && mkdir scTreeViz.buildbin-libdir && /Users/biocbuild/BBS/utils/build-universal.sh scTreeViz_1.17.0.tar.gz /Library/Frameworks/R.framework/Resources/bin/R scTreeViz.buildbin-libdir StartedAt: 2025-11-14 23:51:22 -0500 (Fri, 14 Nov 2025) EndedAt: 2025-11-14 23:51:55 -0500 (Fri, 14 Nov 2025) EllapsedTime: 32.7 seconds RetCode: 0 Status: OK PackageFile: scTreeViz_1.17.0.tgz PackageFileSize: 2.618 MiB