Package: scTensor Version: 2.19.2 Command: /home/biocbuild/bbs-3.22-bioc/R/bin/R CMD INSTALL scTensor StartedAt: 2025-10-05 15:46:15 -0400 (Sun, 05 Oct 2025) EndedAt: 2025-10-05 15:47:08 -0400 (Sun, 05 Oct 2025) EllapsedTime: 53.4 seconds RetCode: 0 Status: OK