Package: scTHI Version: 1.21.0 Command: /home/biocbuild/bbs-3.22-bioc/R/bin/R CMD INSTALL scTHI StartedAt: 2025-10-06 15:04:46 -0400 (Mon, 06 Oct 2025) EndedAt: 2025-10-06 15:04:52 -0400 (Mon, 06 Oct 2025) EllapsedTime: 6.7 seconds RetCode: 0 Status: OK