Package: scShapes Version: 1.15.0 Command: /home/biocbuild/bbs-3.22-bioc/R/bin/R CMD INSTALL scShapes StartedAt: 2025-09-29 15:04:37 -0400 (Mon, 29 Sep 2025) EndedAt: 2025-09-29 15:04:55 -0400 (Mon, 29 Sep 2025) EllapsedTime: 17.1 seconds RetCode: 0 Status: OK