Package: scRecover Version: 1.25.0 Command: /home/biocbuild/bbs-3.22-bioc/R/bin/R CMD INSTALL scRecover StartedAt: 2025-10-01 15:08:54 -0400 (Wed, 01 Oct 2025) EndedAt: 2025-10-01 15:09:34 -0400 (Wed, 01 Oct 2025) EllapsedTime: 39.4 seconds RetCode: 0 Status: OK