Package: scRecover Version: 1.25.0 Command: /home/biocbuild/bbs-3.22-bioc/R/bin/R CMD build --keep-empty-dirs --no-resave-data --md5 scRecover StartedAt: 2025-10-01 20:18:12 -0400 (Wed, 01 Oct 2025) EndedAt: 2025-10-01 20:19:51 -0400 (Wed, 01 Oct 2025) EllapsedTime: 99.0 seconds RetCode: 0 Status: OK PackageFile: scRecover_1.25.0.tar.gz PackageFileSize: 1.714 MiB