Package: scReClassify Version: 1.15.0 Command: /Library/Frameworks/R.framework/Resources/bin/R CMD INSTALL scReClassify StartedAt: 2025-10-08 15:55:11 -0400 (Wed, 08 Oct 2025) EndedAt: 2025-10-08 15:55:41 -0400 (Wed, 08 Oct 2025) EllapsedTime: 29.9 seconds RetCode: 0 Status: OK