Package: scReClassify Version: 1.15.0 Command: /Library/Frameworks/R.framework/Resources/bin/R CMD build --keep-empty-dirs --no-resave-data scReClassify StartedAt: 2025-10-08 19:13:12 -0400 (Wed, 08 Oct 2025) EndedAt: 2025-10-08 19:16:47 -0400 (Wed, 08 Oct 2025) EllapsedTime: 214.5 seconds RetCode: 0 Status: OK PackageFile: scReClassify_1.15.0.tar.gz PackageFileSize: 2.59 MiB