Package: scReClassify Version: 1.15.0 Command: /Library/Frameworks/R.framework/Resources/bin/R CMD build --keep-empty-dirs --no-resave-data scReClassify StartedAt: 2025-10-03 17:39:08 -0400 (Fri, 03 Oct 2025) EndedAt: 2025-10-03 17:40:14 -0400 (Fri, 03 Oct 2025) EllapsedTime: 65.7 seconds RetCode: 0 Status: OK PackageFile: scReClassify_1.15.0.tar.gz PackageFileSize: 2.59 MiB