Package: scReClassify Version: 1.15.0 Command: rm -rf scReClassify.buildbin-libdir && mkdir scReClassify.buildbin-libdir && /Users/biocbuild/BBS/utils/build-universal.sh scReClassify_1.15.0.tar.gz /Library/Frameworks/R.framework/Resources/bin/R scReClassify.buildbin-libdir StartedAt: 2025-10-03 22:55:11 -0400 (Fri, 03 Oct 2025) EndedAt: 2025-10-03 22:55:21 -0400 (Fri, 03 Oct 2025) EllapsedTime: 10.2 seconds RetCode: 0 Status: OK PackageFile: scReClassify_1.15.0.tgz PackageFileSize: 2.491 MiB