Package: scRNAseqApp Version: 1.11.0 Command: /home/biocbuild/bbs-3.23-bioc/R/bin/R CMD INSTALL scRNAseqApp StartedAt: 2025-11-21 15:27:41 -0500 (Fri, 21 Nov 2025) EndedAt: 2025-11-21 15:28:46 -0500 (Fri, 21 Nov 2025) EllapsedTime: 65.1 seconds RetCode: 0 Status: OK