Package: scRNAseqApp Version: 1.11.0 Command: /Library/Frameworks/R.framework/Resources/bin/R CMD INSTALL scRNAseqApp StartedAt: 2025-11-16 20:27:15 -0500 (Sun, 16 Nov 2025) EndedAt: 2025-11-16 20:28:40 -0500 (Sun, 16 Nov 2025) EllapsedTime: 84.7 seconds RetCode: 0 Status: OK