Package: scRNAseqApp Version: 1.11.0 Command: /Library/Frameworks/R.framework/Resources/bin/R CMD build --keep-empty-dirs --no-resave-data scRNAseqApp StartedAt: 2025-11-16 23:36:37 -0500 (Sun, 16 Nov 2025) EndedAt: 2025-11-16 23:38:13 -0500 (Sun, 16 Nov 2025) EllapsedTime: 96.5 seconds RetCode: 0 Status: OK PackageFile: scRNAseqApp_1.11.0.tar.gz PackageFileSize: 2.216 MiB