Package: scRNAseqApp Version: 1.11.0 Command: rm -rf scRNAseqApp.buildbin-libdir && mkdir scRNAseqApp.buildbin-libdir && /Users/biocbuild/BBS/utils/build-universal.sh scRNAseqApp_1.11.0.tar.gz /Library/Frameworks/R.framework/Resources/bin/R scRNAseqApp.buildbin-libdir StartedAt: 2025-11-17 07:17:00 -0500 (Mon, 17 Nov 2025) EndedAt: 2025-11-17 07:18:27 -0500 (Mon, 17 Nov 2025) EllapsedTime: 86.3 seconds RetCode: 0 Status: OK PackageFile: scRNAseqApp_1.11.0.tgz PackageFileSize: 3.626 MiB