Package: scQTLtools Version: 1.1.7 Command: /home/biocbuild/bbs-3.22-bioc/R/bin/R CMD INSTALL scQTLtools StartedAt: 2025-10-05 15:53:04 -0400 (Sun, 05 Oct 2025) EndedAt: 2025-10-05 15:53:46 -0400 (Sun, 05 Oct 2025) EllapsedTime: 42.5 seconds RetCode: 0 Status: OK