Package: scQTLtools Version: 1.1.7 Command: /home/biocbuild/bbs-3.22-bioc/R/bin/R CMD build --keep-empty-dirs --no-resave-data --md5 scQTLtools StartedAt: 2025-10-05 19:59:17 -0400 (Sun, 05 Oct 2025) EndedAt: 2025-10-05 20:00:42 -0400 (Sun, 05 Oct 2025) EllapsedTime: 85.0 seconds RetCode: 0 Status: OK PackageFile: scQTLtools_1.1.7.tar.gz PackageFileSize: 4.119 MiB