Package: scPCA Version: 1.25.0 Command: /Library/Frameworks/R.framework/Resources/bin/R CMD INSTALL scPCA StartedAt: 2025-11-24 15:28:00 -0500 (Mon, 24 Nov 2025) EndedAt: 2025-11-24 15:28:11 -0500 (Mon, 24 Nov 2025) EllapsedTime: 10.9 seconds RetCode: 0 Status: OK