Package: scPCA Version: 1.25.0 Command: /Library/Frameworks/R.framework/Resources/bin/R CMD build --keep-empty-dirs --no-resave-data scPCA StartedAt: 2025-11-24 17:44:02 -0500 (Mon, 24 Nov 2025) EndedAt: 2025-11-24 17:45:56 -0500 (Mon, 24 Nov 2025) EllapsedTime: 114.2 seconds RetCode: 0 Status: OK PackageFile: scPCA_1.25.0.tar.gz PackageFileSize: 2.054 MiB