Package: scMultiSim Version: 1.7.0 Command: /Library/Frameworks/R.framework/Resources/bin/R CMD build --keep-empty-dirs --no-resave-data scMultiSim StartedAt: 2025-11-17 18:51:04 -0500 (Mon, 17 Nov 2025) EndedAt: 2025-11-17 19:00:30 -0500 (Mon, 17 Nov 2025) EllapsedTime: 566.3 seconds RetCode: 0 Status: OK PackageFile: scMultiSim_1.7.0.tar.gz PackageFileSize: 5.387 MiB