Package: scMultiSim Version: 1.7.0 Command: rm -rf scMultiSim.buildbin-libdir && mkdir scMultiSim.buildbin-libdir && /Users/biocbuild/BBS/utils/build-universal.sh scMultiSim_1.7.0.tar.gz /Library/Frameworks/R.framework/Resources/bin/R scMultiSim.buildbin-libdir StartedAt: 2025-11-18 07:22:49 -0500 (Tue, 18 Nov 2025) EndedAt: 2025-11-18 07:23:31 -0500 (Tue, 18 Nov 2025) EllapsedTime: 42.7 seconds RetCode: 0 Status: OK PackageFile: scMultiSim_1.7.0.tgz PackageFileSize: 5.76 MiB