Package: scMultiSim Version: 1.5.0 Command: /Library/Frameworks/R.framework/Resources/bin/R CMD INSTALL scMultiSim StartedAt: 2025-10-27 15:14:58 -0400 (Mon, 27 Oct 2025) EndedAt: 2025-10-27 15:15:09 -0400 (Mon, 27 Oct 2025) EllapsedTime: 11.5 seconds RetCode: 0 Status: OK