Package: scLANE Version: 0.99.999999 Command: /home/biocbuild/bbs-3.22-bioc/R/bin/R CMD INSTALL scLANE StartedAt: 2025-10-20 15:08:40 -0400 (Mon, 20 Oct 2025) EndedAt: 2025-10-20 15:09:27 -0400 (Mon, 20 Oct 2025) EllapsedTime: 46.9 seconds RetCode: 0 Status: OK