Package: scLANE Version: 0.99.999999 Command: /home/biocbuild/bbs-3.22-bioc/R/bin/R CMD build --keep-empty-dirs --no-resave-data --md5 scLANE StartedAt: 2025-10-20 19:49:30 -0400 (Mon, 20 Oct 2025) EndedAt: 2025-10-20 19:51:03 -0400 (Mon, 20 Oct 2025) EllapsedTime: 93.1 seconds RetCode: 0 Status: OK PackageFile: scLANE_0.99.999999.tar.gz PackageFileSize: 3.968 MiB